Workbook
Name _ftn1: '780-2126'!$B$1268
Name _ftn2: '780-2126'!$B$1269
Name _Hlk40426130: '780-2126'!$D$1001

Sheet 1-733
C2: SISTEMA INTEGRADO DE GESTIÓN | F2: Código: GCOP-F-006
C3: PROCESO | D3: GESTIÓN DE LA CONTRATACIÓN PÚBLICA | F3: Versión: 002
C4: FORMATO | D4: MATRIZ RESPUESTA A OBSERVACIONES | F4: Fecha: 06/05/2020
A8: RESPUESTA A OBSERVACIONES
B10: LICITACIÓN PÚBLICA No. VJ-VE-APP-IPB-001-2020
A11: En Bogotá D.C., a los cuatro días del mes de septiembre de 2020, la Agencia Nacional de Infraestructura, por medio del presente documento se permite dar respuesta a la observación allegada hasta la fecha, al VJ-VE-APP-IPB-001-2020 del proceso de selección de la referencia, en los siguientes términos:
B12: Se da respuesta a las observaciones allegadas al proyecto de pliego de condiciones del proceso de selección. Las modificaciones realizadas al pliego de condiciones y demás anexos y apéndices serán las contenidas en los documentos indicados, las cuales prevalecen sobre las respuestas a las observaciones.
A15: No. | B15: EMPRESA O PERSONA | C15: OBSERVACIÓN REALIZADA | F15: DOCUMENTO O SECCIÓN QUE SE OBSERVA | G15: TIPO DE OBSERVACIÓN (TÉCNICA, JURÍDICA, FINANCIERA, ETC.) | H15: RESPUESTA DE LA ENTIDAD
B16: QUE OBSERVA
A17: 1. | B17: LEONARDO ARÉVALO CRUZ, PAVIMENTOS COLOMBIA S.A.S. | C17: 1. En el Documento de proyecto al pliego de condiciones numeral 1.7 Cuarto de Información de Referencia la Entidad especifica que los interesados podrán revisar la información de Referencia de manera virtual en el enlace que aparece en este numeral, sin embargo una vez revisado el link, este no tiene acceso y aparece el siguiente mensaje de error: | F17: Numeral 1.7 del Proyecto de Pliego de Condiciones | G17: =+VLOOKUP(1,prueba!$D$2:$E$733,2,FALSE) -> TÉCNICA | H17: La entidad informa al interesado que en el documento “ACCESO AL CUARTO DE INFORMACIÓN DE REFERENCIA”, subido a la plataforma del SECOP I, el 07.04.2020, se encuentra el link para el sharepoint con dicha información de referencia. El link se encuentra en funcionamiento y se puede consultar la información en su totalidad. De igual manera se incluye el link del cuarto de datos a continuación: https://anionline-my.sharepoint.com/:f:/g/personal/cdatosani02_ani_gov_co/EslXe6ayJ55PiZWYrSYGc24B367_s7v1-Bp-wOEyEKefcQ?e=XWfQDi
B18: SUPERFICIES COLOMBIA S.A.S.
B20: 43928 | C20: Así las cosas, solicitamos muy comedidamente a la Entidad realizar nuevamente la verificación del link y volverlo a publicar para realizar la revisión de la información pertinente para el análisis del proyecto,
A21: 2. | B21: SOFÍA BUITRAGO DUQUE, | C21: Solicito por favor información sobre el proyecto MALLA VIAL DEL VALLE DEL CAUCA: ACCESOS CALI-PALMIRA, me gustaría saber la fecha estimada en que saldrá a licitación cada unidad funcional en especial el componente de interventoría. | F21: Información general | G21: =+VLOOKUP(2,prueba!$D$2:$E$733,2,FALSE) -> TÉCNICA | H21: Se aclara al interesado que el Proceso de Selección resultará en la Adjudicación de un (1) Contrato de Concesión que incluye todas las Unidades Funcionales señaladas, sin que exista un Proceso de Selección para cada una de ellas. Lo mismo ocurrirá para el Contrato de Interventoría. El objeto del Contrato de Concesión a adjudicar será el otorgamiento de una concesión que, bajo el esquema de Asociación Público Privada en los términos de la Ley 1508 de 2012, permita llevar a cabo la financiación, elaboración de estudios y diseños definitivos, gestión ambiental, gestión predial y, gestión social, construcción, rehabilitación, operación y mantenimiento del proyecto Nueva Malla Vial del Valle del Cauca – Corredor Accesos Cali y Palmira. Para efectos de consultar la información del proceso, se aclara que la misma se encuentra publicada en el SECOP, en la convocatoria Proceso VJ-VE-APP-IPB-001-2020. Dentro de la misma se encuentra, el documento “ACCESO AL CUARTO DE INFORMACIÓN DE REFERENCIA”. De igual manera, a continuación se incluye el link del proceso: https://www.contratos.gov.co/consultas/detalleProceso.do?numConstancia=20-19-10660579 Adicionalmente, se informa al interesado que la Entidad actualmente se encuentra estructurando el proceso de interventoría el cual será publicado próximamente con el fin de que su adjudicación permita la participación del interventor en la ejecución de Contrato de Concesión.
B22: INTEGRAL INGENIEROS CONSULTORES | C22: Unidad Funcional Cero: (UF) estará encargada de la operación y mantenimiento de 310 km de vía.
B23: 43934 | C23: Unidad Funcional 1: Estará a cargo de la puesta a punto y mantenimiento de los corredores existentes del sector norte, además de rehabilitación y mejoramiento del Paso Nacional por Palmira, intersección Versalles y de la intersección Parque del Azúcar. En total serán 151 Km.
C24: Unidad Funcional 2: Contempla la intervención de 111 km, tendrá a su cargo, la conexión del Cauca y el Valle del Cauca, pues tendrá la puesta a punto y mantenimiento de los corredores existentes del sector sur comprendidos entre Santander de Quilichao y la intersección Ingenio Providencia en Palmira.
C25: La tercera UF: Contempla la construcción y mantenimiento periódico de una calzada sencilla con compra de predios para doble calzada de la Avenida Bicentenario. Así mismo, construcción y mantenimiento de la intersección a desnivel del corredor con la vía Ye de Villa Rica - Jamundí así como la intersección con el corredor Cali - Puerto Tejada. Serán 15,6 km.
C26: La cuarta UF: Contempla la construcción de segunda calzada adosada en el corredor Intersección Av. Bicentenario hasta Ye de Villarrica, así como la puesta a punto del tramo Jamundí – Ye de Villarrica. Serán 15.4 km.
C27: La quinta UF Contempla la construcción del intercambiador Sameco, la puesta a punto del tramo Intercambiador Sameco – Glorieta Cencar, la construcción de segunda calzada adosada en el tramo Glorieta Cencar – Glorieta las Américas y la rehabilitación del tramo Glorieta las Américas – Paso Nivel en Yumbo. Serán 12 km.
C28: Se estima que la duración de las obras sea de cinco años y medio, incluido un año de preconstrucción. La concesión será por un periodo de 29 años.
A30: 3. | B30: RICHARD HOEFLINGER, STRABAG S.A.S. | C30: RICHARD HOEFLINGER, identificado como aparece al pie de mi firma, en representación de STRABAG S.A.S. por medio del presente escrito solicito respetuosamente se aplace la fecha para realizar observaciones al Proyecto de Pliego de Condiciones de la Licitación de la referencia. | F30: Numeral 2.3 del Pliego de Condiciones | G30: =+VLOOKUP(3,prueba!$D$2:$E$733,2,FALSE) -> JURÍDICA - CONTRATACIÓN | H30: De acuerdo con las observaciones presentadas por los Interesados y con el fin de otorgar plazo prudencial para la revisión de los Documentos del Proceso de Contratación, se modificó el cronograma a través de los Avisos Modificatorios publicados en el SECOP
B31: 43935 | F31: Cronograma del Proceso
C32: Formulo la presente solicitud teniendo en consideración que los documentos de la Licitación fueron publicados al final del día del 6 de abril de 2020 a las 6:46pm y el plazo previsto en el Proyecto de Pliego de Condiciones para formular preguntas es el próximo 22 abril de 2020. Nótese que entre una y otra fecha tan solo hay 10 días hábiles, lo no corresponde a un tiempo razonable para que los interesados puedan revisar los extensos y complejos documentos de la Licitación, más aun teniendo en cuenta que la ANI ha señalado un nuevo modelo de contrato de concesión para el Proyecto.
C34: Adicionalmente, las circunstancias actuales relacionadas con el COVID-19 en el país hacen que los actores del mercado en infraestructura se encuentren enfocados en solucionar las complejas problemáticas en los proyectos en los que participan y por lo tanto un plazo tan extremadamente corto para formular observaciones afecta directamente la posibilidad de revisar en detalle los documentos de la Licitación y por lo tanto la eventual participación y pluralidad de oferentes en la misma.
C36: Finalmente, la ANI debe considerar que por el momento no es posible realizar visitas de campo, lo cual limita ampliamente la posibilidad de formular observaciones a los documentos de la Licitación.
C38: En estos términos solicitamos respetuosamente que se amplié el plazo como mínimo hasta el 11 de mayo de 2020 para formular observaciones al Proyecto de Pliego de Condiciones y demás documentos de la Licitación.
A39: 4. | B39: VIVIAN LEIGHTON, COWI A/S | C39: Quisiera saber si me podrían orientar en la licitación que se lazó el pasado 7 de Abril con respecto a la primera parte de las autopistas 5G y qué contempla.Hay algún puente o vías elevadas en dicha licitación. Cuál es su descripción? Dónde puedo encontrar los documentos de precalificación y cuál es la fecha límite para las propuestas? | F39: Información General | G39: =+VLOOKUP(4,prueba!$D$2:$E$733,2,FALSE) -> TÉCNICA – JURÍDICA ESTRUCTURACIÓN | H39: La entidad informa al interesado que: • La descripción de las Obras a realizar se encuentra en el Cuarto de Datos. De acuerdo con lo señalado en el Pliego, dicha información sólo es de referencia, teniendo en cuenta que corresponderá al Concesionario adelantar los estudios y diseños necesarios para la ejecución • Se aclara al interesado que en el presente Proceso de Selección no existe una etapa de precalificación, por tanto, los requisitos habilitantes y de calificación deberán acreditarse con la presentación de la Oferta en los términos de los Capítulos IV y V del pliego de condiciones. También se aclara al interesado que la fecha límite para la presentación se encuentra prevista en el numeral 2.3. del pliego de condiciones.
B40: 43936
A42: 5. | B42: JAIRO GIL MONTERO, | C42: Somos una organización que nos dedicamos a la fabricación, comercialización y mantenimiento de basculas para camiones. Tenemos más de 20 años de experiencia, estamos certificados y contamos con reconocimiento nacional, principalmente en el sector portuario y carbonero. | F42: Información General | G42: =+VLOOKUP(5,prueba!$D$2:$E$733,2,FALSE) -> TÉCNICA – JURÍDICA ESTRUCTURACIÓN | H42: La Entidad informa al interesado que las condiciones y reglas de participación en el Proceso de Selección se encuentran publicados en el SECOP, en la convocatoria Proceso VJ-VE-APP-IPB-001-2020. Así mismo, la Entidad aclara que corresponde a cada interesado evaluar la forma y estructura de participación en el Proceso de Selección de acuerdo con las condiciones establecidas en el Pliego de Condiciones.
B43: BASCOSTA | C43: Es nuestro interés poder vincularnos al suministro de estos equipos en los proyectos 5G.
B44: 43937 | C44: Quisiéramos saber cómo podemos participar?
C45: Si debemos hacerlo por medio de un proponente, como podemos saber cuáles son las empresas que están participando?
C46: Valoramos mucho la atención y tiempo dedicado a darle respuesta a esta misiva.
A47: 6. | B47: SUSANA SANTAMARIA, | C47: Me dirijo a ustedes en referencia a la información facilitada en el cuarto de datos del Proceso VJ-VE-APP-IPB-001-2020. Según el Estudio de Tráfico (Doc. 0AI) facilitado, se llevó a cabo una extensa campaña de trabajo de campo de Aforos Vehiculares, Encuestas Origen-Destino, Encuestas de Preferencia Declarada, Estudios de Velocidades y Tiempos de Recorrido. | F47: Estudio de tráfico | G47: =+VLOOKUP(6,prueba!$D$2:$E$733,2,FALSE) -> TÉCNICA | H47: La entidad informa al interesado que en la carpeta 0AI2 del cuarto de datos se encuentran los anexos del estudio de tráfico realizado. En la carpeta CII4123 se encuentra el Estudio de Tráfico y Demanda que reúne los resultados de los Aforos Vehiculares (Sección 1.2.3), Encuestas de Origen Destino (Sección 1.2.2), Encuestas de Preferencia Declarada (Sección 1.2.6), Estudios de Velocidades y Tiempos Recorridos (Sección 1.2.4). Esta información estará disponible a título meramente informativo acorde con las condiciones de la Sección 1.7 Cuarto de Información de Referencia del Pliego de Condiciones.
B48: DIADRO CONSULTING ESPAÑA | C48: Dada la situación actual, me preguntaba si van a proporcionar estos datos. Con un formato de manera que puedan ser utilizados para desarrollar un modelo de redes.
B49: 43938
A50: 7. | B50: RICHARD HOEFLINGER, STRABAG S.A.S. | C50: RICHARD HOEFLINGER, identificado como aparece al pie de mi firma, en representación de STRABAG S.A.S. por medio del presente escrito reitero respetuosamente nuestra solicitud elevada el pasado 14 de abril en la que se solicitó el aplazamiento de la fecha para realizar observaciones al Proyecto de Pliego de Condiciones de la Licitación de la referencia. | F50: Numeral 2.3 del Pliego de Condiciones | G50: =+VLOOKUP(7,prueba!$D$2:$E$733,2,FALSE) -> JURÍDICA - CONTRATACIÓN | H50: De acuerdo con las observaciones presentadas por los Interesados y con el fin de otorgar plazo prudencial para la revisión de los Documentos del Proceso de Contratación, se modificó el cronograma a través de los Avisos Modificatorios publicados en el SECOP
B51: 43942 | C51: Como es de público conocimiento el día de ayer 20 de abril de 2020, el Gobierno Nacional anunció que las medidas del aislamiento preventivo obligatorio se extenderán hasta el 11 de mayo, lo cual hace imposible estudiar adecuadamente los documentos de la Licitación, mucho menos hacer visitas o inspecciones al proyecto objeto de la Licitación y de hecho, hace imposible que se lleve a cabo la audiencia de aclaraciones al pliego de condiciones y audiencia de riesgos prevista precisamente para el 11 de mayo de acuerdo con el cronograma previsto en el numeral 2.2. del Proyecto de Pliego de Condiciones de la Licitación. | F51: Cronograma del Proceso
C52: En este sentido, solicitamos respetuosamente que se amplié el plazo para formular observaciones al Proyecto de Pliego de Condiciones y demás documentos de la Licitación y que en consecuencia se aplacen todas las actividades subsecuentes previstas en el numeral 2.2. del proyecto de pliego de condiciones de la Licitación como mínimo en 1 mes calendario.
C53: Destacamos que la ANI el día de ayer modificó, por ejemplo, la Invitación a Precalificar No VJ-VE-IP-001-2019 cuyo objeto es la adjudicación de un contrato relativo al Rio Magdalena, ajustando el cronograma de la misma en más de seis semanas en muchas de las actividades de dicho proceso de selección. En este mismo sentido solicitamos que la ANI proceda frente a la Licitación.
...

Sheet 734-779
C2: SISTEMA INTEGRADO DE GESTIÓN | F2: Código: GCOP-F-006
C3: PROCESO | D3: GESTIÓN DE LA CONTRATACIÓN PÚBLICA | F3: Versión: 002
C4: FORMATO | D4: MATRIZ RESPUESTA A OBSERVACIONES | F4: Fecha: 06/05/2020
A8: RESPUESTA A OBSERVACIONES
B10: LICITACIÓN PÚBLICA No. VJ-VE-APP-IPB-001-2020
A11: En Bogotá D.C., a los cuatro días del mes de septiembre de 2020, la Agencia Nacional de Infraestructura, por medio del presente documento se permite dar respuesta a la observación allegada hasta la fecha, al VJ-VE-APP-IPB-001-2020 del proceso de selección de la referencia, en los siguientes términos:
A12: Se da respuesta a las observaciones allegadas al proyecto de pliego de condiciones del proceso de selección. Las modificaciones realizadas al pliego de condiciones y demás anexos y apéndices serán las contenidas en los documentos indicados, las cuales prevalecen sobre las respuestas a las observaciones.
A15: No. | B15: EMPRESA O PERSONA | C15: OBSERVACIÓN REALIZADA | F15: DOCUMENTO O SECCIÓN QUE SE OBSERVA | G15: TIPO DE OBSERVACIÓN (TÉCNICA, JURÍDICA, FINANCIERA, ETC.) | H15: RESPUESTA DE LA ENTIDAD
B16: QUE OBSERVA
A17: 734 | B17: KMA CONSTRUCCIONES S.A.S. | C17: 3.14(h)(iv)(2) (…)"iv. Con los recursos provenientes del Recaudo de Peaje, mensualmente se fondearán en el siguiente orden las subcuentas: | F17: Contrato Parte Especial. CAPÍTULO II TABLA DE REFERENCIAS A LA PARTE GENERAL. 3.14(h)(iv)(2) | G17: Jurídica | H17: Se informa al interesado que su entendimiento es correcto, la secuencia descrita en el Contrato Parte Especial, Tabla de Referencias, Sección 3.14(h)(iv)(2) aplica en el orden allí especificado. La entidad acepta parcialmente su observación, y ajusta la redacción en la Tabla de Referencias 3.14(h)(iv)(2) precisando en el numeral que el fondeo aplicará una vez realizado el fondeo del numeral anterior.
B18: 43957 | G18: financiera
C19: (...)
C20: 2. En segundo lugar y previo a cualquier otro fondeo, a la Subcuenta creada para la UF 0 dentro de la Subcuenta Recaudo Peaje, con el porcentaje correspondiente a la UF0 señalado en la Sección 4.1 de esta Parte Especial.
C22: De acuerdo con lo anterior solicitamos aclarar si el porcentaje correspondiente a la UF0 señalado en la Sección 4.1 de esta Parte Especial se aplicaría sobre los recursos TOTALES provenientes del recaudo de peaje o sobre los recursos remanentes después de surtir el Paso 1.
C24: En ese sentido, sugerimos la siguiente redacción:
C26: 2. En segundo lugar y previo a cualquier otro fondeo,
C27: después de efectuar los fondeos descritos en los numerales anteriores, con los recursos remanentes, a la Subcuenta creada para la UF 0 dentro de la Subcuenta Recaudo Peaje, con el porcentaje correspondiente a la UF0 señalado en la Sección 4.1 de esta Parte Especial.
A28: =+A17+1 -> 735 | B28: KMA CONSTRUCCIONES S.A.S. | C28: 3.14(h)(iv)(2) (…)"iv. Con los recursos provenientes del Recaudo de Peaje, mensualmente se fondearán en el siguiente orden las subcuentas: | F28: Contrato Parte Especial. CAPÍTULO II TABLA DE REFERENCIAS A LA PARTE GENERAL. 3.14(h)(iv)(2) | G28: Jurídica | H28: Se informa al interesado que su entendimiento es correcto, la secuencia descrita en el Contrato Parte Especial, Tabla de Referencias, Sección 3.14(h)(iv)(4) aplica en el orden allí especificado. La entidad acepta parcialmente su observación, y ajusta la redacción en la Tabla de Referencias 3.14(h)(iv)(4) señalando que esto aplicará una vez sean realizados los fondeos descritos en los numerales 1,2 y 3 anteriores.
B29: 43957 | G29: financiera
C30: (...)
C31: 4. En cuarto lugar y con posterioridad a los anteriores fondeos, a las Subcuentas creadas para las demás UF dentro de la Subcuenta de Recaudo con los recursos remanentes del Recaudo de Peaje con el porcentaje correspondiente a cada UF señalado en la Sección 4.1 de esta Parte Especial."
C33: A efecto de garantizar que el 100% de los recursos remanentes, después de aplicar los fondeos descritos en los numeral 1, 2 y 3, puedan ser asignados debidamente, solicitamos corregir la redacción del numeral 4, particularmente en el período donde se deba fondear la subcuenta contingencias, en el sentido de incluir nuevamente a la UF0 en la distribución correspondiente a cada UF señalado en la Sección 4.1 de esta Parte Especial. De lo contrario, se estaría dejando de fondear el porcentaje asignado a la mencionada UF0 del mencionado remanente. Por consiguiente, sugerimos la siguiente redacción:
C35: 4. En cuarto lugar y con posterioridad a los anteriores fondeos, a las Subcuentas creadas para todas las UFs dentro de la Subcuenta de Recaudo con los recursos remanentes del Recaudo de Peaje con el porcentaje correspondiente a cada UF señalado en la Sección 4.1 de esta Parte Especial.
A36: =+A28+1 -> 736 | B36: KMA CONSTRUCCIONES S.A.S. | C36: “El desarrollo de las obligaciones ambientales pendientes de cumplimiento y obligaciones por ejecutar establecidas en el Apéndice Técnico 6, deberá iniciar desde la suscripción del Acta de Inicio o la expedición de la Orden de Inicio. En todo caso, si a la fecha en la cual se haga la Entrega de la Infraestructura ya se han cumplido algunas de las obligaciones ambientales, estas se entenderán automáticamente excluidas del objeto de este Contrato y no harán parte del alcance del Proyecto, por lo cual cesarán las obligaciones del Concesionario respecto de la(s) actividad(es) así excluida(s), y el monto de cada una de ellas indicado en las siguientes tablas será trasladado por parte del Concesionario a la Subcuenta Excedentes ANI, previa instrucción expresa y escrita de la ANI, en un plazo máximo de cuarenta y ocho (48) meses contado a partir de la suscripción del Acta de Inicio de la Fase de Construcción.” | F36: Contrato Parte Especial. CAPÍTULO III ASPECTOS GENERALES. SECCION 3.6 (h) | G36: Ambiental | H36: Se informa al interesado que a partir de la relación de expedientes definidos en el Capítulo IX del Apéndice Técnico 6, el Oferente podrá efectuar las consultas pertinentes de tales expedientes en la ANLA. Para esto se incluye en el Cuarto de Información de Referencia las resoluciones de las licencias ambientales y los actos administrativos de seguimiento en la carpeta E3. Se precisa que esta información estará disponible a título meramente informativo acorde con las condiciones de la Sección 1.7 Cuarto de Información de Referencia del Pliego de Condiciones.
B37: 43957
C38: Observación: Teniendo en cuenta que el Contrato vincula trámites y permisos en curso que se encuentran pendientes de finiquitar, es importante conocer el sentido y directrices señalados en cada uno de ellos, a efectos de conocer en debida forma no solo el alcance de estos, sino que adicionalmente el margen de las obligaciones y/o responsabilidades pendientes de cumplir para obtener su cierre. Por lo tanto, se hace necesario contar con la relación y contenido de cada uno de los Actos Administrativos a que se ha hecho mención.
A39: =+A36+1 -> 737 | B39: KMA CONSTRUCCIONES S.A.S. | F39: Contrato Parte Especial. CAPÍTULO III ASPECTOS GENERALES. SECCION 3.6 (h) (ii) | G39: Ambiental | H39: Se informa al interesado que a partir de la relación de expedientes definidos en el Capítulo IX del Apéndice Técnico 6, el Oferente podrá efectuar las consultas pertinentes de tales expedientes en la ANLA. Para esto se incluye en el Cuarto de Información de Referencia las resoluciones de las licencias ambientales y los actos administrativos de seguimiento en la carpeta E3. Se precisa que esta información estará disponible a título meramente informativo acorde con las condiciones de la Sección 1.7 Cuarto de Información de Referencia del Pliego de Condiciones.
B40: 43957
C43: Observación: Teniendo en cuenta que el Contrato vincula trámites y permisos en curso que se encuentran pendientes de finiquitar, es importante conocer el sentido y directrices señalados en cada uno de ellos, a efectos de conocer en debida forma no solo el alcance de estos, sino que adicionalmente el margen de las obligaciones y/o responsabilidades pendientes de cumplir para obtener su cierre. Por lo tanto, se hace necesario contar con la relación y contenido de cada uno de los Actos Administrativos a que se ha hecho mención.
A44: =+A39+1 -> 738 | B44: KMA CONSTRUCCIONES S.A.S. | C44: • SECCION 3.11.1 (a) “(…) En este sentido será responsabilidad del Concesionario la adquisición de la totalidad de los Predios por efecto de las intervenciones ofrecidas para obtener mayor puntaje como factor de calidad y no podrá utilizar los recursos previstos en la Subcuenta de Predios”. | F44: Contrato Parte Especial. CAPÍTULO III ASPECTOS GENERALES. SECCION 3.11.1 (a) | G44: técnica | H44: Se informa al interesado que el alcance de las intervenciones para el Factor de Calidad será ajustado en los documentos definitivos, en el sentido de aclarar que se tratan de intervenciones sobre vías existentes. Sin embargo, si producto de la ejeción de los Estudios de Detalle y Diseño Geometrico el Concesionaro requiere algún predio, su gestión y adquisición deberá estar a su cuenta y riesgo.
B45: 43957
C46: Observación: El aparte antes señalado es una clara vulneración al Principio de Planeación que debe gobernar para la ANI, comoquiera que al exigir compra de todos los predios otorgando así una mayor calificación, hace que dicha compra no sea o pueda evaluar como un factor de calidad, más cuando los predios deben ser adquiridos en los periodos acordados para el efecto. No tiene sentido que realizada una matriz de riesgos, la cual ha surtido todos los tramites de ley; se le asigne al concesionario un riesgo que no ha sido dimensionado por la ANI.
C47: Por lo anterior les solicitamos que la compra de los predios asociadas al factor de calidad, sean realizadas por la subcuenta de predios y se mantenga idéntica la asignación de riesgos entre público y privado.
A48: =+A44+1 -> 739 | B48: KMA CONSTRUCCIONES S.A.S. | F48: Contrato Parte Especial. | G48: financiera | H48: La entidad considera pertinente la observación y realizará los ajustes que considere procedentes al respecto.
B49: 43957 | C49: 4.1 Porcentaje de Participación de las Unidades Funcionales | F49: CAPÍTULO IV ASPECTOS ECONÓMICOS DEL CONTRATO. SECCION 4.1
C50: Como se describe en Apéndice Técnico 1, el Proyecto está dividido en seis (6) Unidades Funcionales (incluida una Unidad Funcional de Operación y Mantenimiento) a las cuales se les asigna el siguiente porcentaje de participación en el Proyecto, para efectos del cálculo de la Retribución para cada Unidad Funcional.
C56: De acuerdo con lo anterior solicitamos comedidamente se corrijan los porcentajes asignados a los períodos: Desde el Mes 37 hasta el Mes 42, Desde el Mes 43 hasta el Mes 48 y Desde el Mes 61 hasta el Mes 102, toda vez que la sumatoria es inferior al 100%, probablemente este asociado a decimales.
A57: =+A48+1 -> 740 | B57: KMA CONSTRUCCIONES S.A.S. | C57: CAPÍTULO IV ASPECTOS ECONÓMICOS DEL CONTRATO | F57: Contrato Parte Especial. | G57: financiera | H57: La entidad realizará los ajustes pertinentes, eliminando la sección señalada en su observación, este cambio será incluido en la minuta que se publicará en Pliego de Condiciones Definitivo.
B58: 43957 | F58: CAPÍTULO IV ASPECTOS ECONÓMICOS DEL CONTRATO. SECCION 4.4
C59: SECCION 4.4 “Los costos de estructuración a que se hace referencia en la Sección 4.7 de esta Parte Especial no serán tenidos en cuenta para efectos de los Aportes de Equity a que se hace referencia en esta Sección”.
...

Sheet 780-2126
D3: SISTEMA INTEGRADO DE GESTIÓN | G3: Código: GCOP-F-006
D4: PROCESO | E4: GESTIÓN DE LA CONTRATACIÓN PÚBLICA | G4: Versión: 002
D5: FORMATO | E5: MATRIZ RESPUESTA A OBSERVACIONES | G5: Fecha: 06/05/2020
B6: RESPUESTA A OBSERVACIONES
C8: LICITACIÓN PÚBLICA No. VJ-VE-APP-IPB-001-2020
B9: En Bogotá D.C., a los cuatro días del mes de septiembre de 2020, la Agencia Nacional de Infraestructura, por medio del presente documento se permite dar respuesta a la observación allegada hasta la fecha, al VJ-VE-APP-IPB-001-2020 del proceso de selección de la referencia, en los siguientes términos:
B10: Se da respuesta a las observaciones allegadas al proyecto de pliego de condiciones del proceso de selección. Las modificaciones realizadas al pliego de condiciones y demás anexos y apéndices serán las contenidas en los documentos indicados, las cuales prevalecen sobre las respuestas a las observaciones.
B12: No. | C12: EMPRESA QUE OBSERVA | D12: OBSERVACIÓN REALIZADA | E12: RESPUESTA DE LA ENTIDAD | F12: DOCUMENTO O SECCIÓN QUE SE OBSERVA | G12: TIPO DE OBSERVACIÓN (TÉCNICA, JURÍDICA, FINANCIERA, ETC.)*
B13: 780 | C13: John Laing, 13/05/2020 | D13: Dado el alcance del contrato en respecto del Diseño geométrico y estudios de detalle definidos en los numerales 1.63 y 1.64 Parte General que modificarán los Estudios realizados por la ANI a nivel de factibilidad y que de conociendo que el grado de exactitud se los estudios de Fase II - Estudios de Factibilidad se encuentra entre el 75% y el 85%, solicitamos eliminar la limitación expresada en el numeral 6.3 de la Parte General. | E13: Se informa al interesado que no se acepta su observación en eliminar la limitación expresada. La sección 6.3. regula los eventos en los cuales el Concesionario realice modificaciones y/o adecuaciones a los Estudios de Factibilidad de Trazado y Diseño Geométrico. Estas modificaciones y/o adecuaciones podrán: (i) mantenerse dentro del área de la franja de terreno declarada de utilidad pública e interés social, caso en el cual la asignación de riesgos del Proyecto se mantiene; o (ii) sobrepasar, exceder o extenderse más allá de dicha franja de terreno, caso en el cual aplicará la asignación de riesgos prevista en la Sección 6.3 (b). Si bien el grado de exactitud de los Estudios puede incidir en estas modificaciones y/o adecuaciones, el Concesionario está en facultad de realizar las modificaciones y/o adecuaciones que estime pertinentes. | F13: Contrato Parte General sección 6.3 | G13: Técnica y Jurídica
B14: 781 | C14: John Laing, 13/05/2020 | D14: Se solicitar adicionar en las excepciones previstas en el numeral 6.3 (b) del Contrato Parte General, que en caso que el área de la franja de terreno del corredor vial del Proyecto que ha sido declarada de utilidad pública e interés social determinada en los Estudios de Factibilidad de Trazado y Diseño Geométrico entregados por la ANI; resulten insuficientes para poder cumplir con las Especificaciones Técnicas del contrato de acuerdo con los resultados de los Estudios de ingeniería de detalle para construcción de Fase III. | E14: Se informa al interesado que no se acepta su observación. La entidad considera que los eventos incluidos en la Sección 6.3 (b) del contrato son razonables y responden a las necesidades del Proyecto. | F14: Contrato Parte General sección 6.3 (b) | G14: Técnica y Jurídica
B15: 782 | C15: John Laing, 13/05/2020 | D15: En caso de negarse las peticiones anteriores, favor considerar la opción de compartir con la ANI el riesgo del numeral 13.2 a.(vii) del Contrato Parte General "Los efectos favorables y/o desfavorables derivados de los Estudios de Detalle y Estudios de Trazado y Diseño Geométrico o cualquier otro componente de diseño", dado que el Concesionario no podrá modificar el trazado y diseño geométrico fuera del área de la franja de terreno del corredor vial del Proyecto que ha sido declarada de utilidad pública e interés social determinada en los Estudios de Factibilidad de Trazado y Diseño Geométrico efectuados y aportados por la ANI el el marco de la Licitación | E15: Se aclara al interesado que la regulación establecida en la sección 6.3, no afecta a capacidad que tendrá el concesionario para realizar las optimizaciones de diseño, y tendrá la libertad para optimizar sus Estudios y Diseños dentro de la franja de utilidad establecida. Se recuerda al interesado que el Contrato de Concesión establece que los Estudios de Factibilidad de Trazado y Diseño Geométrico son de referencia. La condición planteada en el numeral 6.3 hace referencia a la franja declarada de utilidad pública obtenida en la estructuración del proyecto, y la variación que pueda presentarse en los Estudios de Trazado y Diseño Geométrico y los Estudios de Detalle que realice el concesionario respecto a la misma. Respecto a las condiciones asociadas a la franja de utilidad pública definidas en la sección contractual correspondiente, se aclara al interesado lo siguiente: - La intención de esta regulación es la de velar porque una modificación de este tipo no desborde de una manera desmedida los riesgos que asume la entidad (en especial lo referente a la adquisición predial, riesgos socioambientales, o de redes). - En ningún aparte del contrato se plantea que sea obligatorio implementar los Trazados elaborados por la Entidad. La condición planteada en el numeral 6.3 hace referencia a la franja de utilidad pública y la variación que pueda presentarse en los Estudios de Trazado y Diseño Geométrico y los Estudios de Detalle que realice el concesionario respecto a la misma. - Aunque tal y como se aclara en los numerales anteriores, la redacción observada se comporta como un límite más nunca como una restricción absoluta, la Entidad realizará algunos ajustes a esta regulación de manera tal que dicho límite sea más flexible. | F15: Contrato Parte General | G15: RIESGOS
B16: 783 | C16: John Laing, 13/05/2020 | D16: Solicitamos ajustar las formulas de Liquidación y Terminación anticipada del contratopara que en toda la vida del proyecto reconozcan el Equity aportado y todos los costos del proyecto independientemente de las fuentes disponibles. Equity aportadfo con posterioridad (Equity Contingente). | E16: Se informa al interesado que la Entidad realizó un ajuste al factor del límite del Equity (FAE). Nota: sin perjuicio de lo planteado en esta respuesta, solamente serán vinculantes las regulaciones efectivamente publicadas en los Pliegos del proceso licitatorio. | F16: Contrato Parte General numeral 18.3 Terminación Anticipada | G16: FINANCIERA
B17: 784 | C17: John Laing, 13/05/2020 | D17: El numeral 13.2 (a)(iv) establece que el Concesionario asumirá los efectos favorables y/o desfavorables variaciones en el valor estimado de las Compensaciones Socioambientales, sin embargo en el numeral 8.1 (c)(ii) se establece que el remanente de los recursos de la Subcuenta Compensaciones Socioambientales será de libre disposición de la ANI, siendo la única beneficiaria de la totalidad de los recursos remanentes y, por tanto, estos recursos se trasladarán a la Subcuenta Excedentes ANI. ¿Cuáles son los efectos favorables que asumiría el Concesionario por las variaciones en el valor estimado de las Compensaciones Socioambientales? | E17: Se modifica la respuesta en el siguiente sentido: Se informa al interesado que se ha modificado la distribución de los remanentes en esta subcuenta entre las Partes tal como se presentará en la minuta que acompañará los pliegos definitivos. | F17: Contrato Parte General | G17: RIESGOS
B18: 785 | C18: John Laing, 13/05/2020 | D18: En cualquier momento durante la ejecución del Contrato, el Concesionario deberá llevar a cabo, bajo el liderazgo de la ANI, la(s) nueva(s) consulta(s) previa(s) con las comunidades étnicas y afrodescendientes que sean certificadas por Autoridad Estatal competente o reconocidas mediante fallo judicial en firme en el área de influencia del Proyecto con posterioridad a la apertura del Proceso de Selección. Los costos que se generen como consecuencia de la Gestión Social y Ambiental para adelantar esta(s) nueva(s) consulta(s) previa(s) serán asumidos en su totalidad por el Concesionario. Los compromisos derivados de dichos acuerdos que sean protocolizados, serán asumido por las Partes en proporciones iguales (cincuenta por ciento 50%), simultáneamente, siempre y cuando no se originen con ocasión de lo previsto en la Sección 6.3 de esta Parte General. El reconocimiento de la porción a cargo de la ANI establecido en la presente Sección se efectuará aplicando lo previsto en la Sección 19.1 de esta Parte General. Lo anterior en línea con lo establecido en la Sección 13.3(c) de esta Parte General. Solicitamos a la ANI fijar un tope máximo a los compromisos derivados de dichos acuerdos que sean protocolizados, dado que es imposible asumir y presupuestar un evento futuro sin máxima cuantía (ilimitado). | E18: • Se informa al interesado que la Entidad ha tenido en cuenta su observación y realizará los ajustes correspondientes en el documento final. Para el caso concreto se establecerá un valor de referencia a partir del cual aplicará una compartición del riesgo por un sistema de bandas de manera análoga a los riesgo establecidos predial, ambiental y de redes, con lo cual se acotará a un tope máximo definido en el contrato la exposición al riesgo que asumirá el privado. | F18: Contrato Parte General numeral 8.1 Gestión Social y Ambiental (d) | G18: RIESGOS
B19: 786 | C19: John Laing, 13/05/2020 | D19: Por favor aclarar si las obligaciones para la vía Salida Palmira – Pradera, Salida Palmira – Candelaria, y para Intersección Sameco, previo a ser realizadas y/o una vez realizadas las obligaciones previstas y/o una vez entregada la infraestructura, se deben ejecutar obligaciones de Operación y/o Mantenimiento Rutinario y/o Mantenimiento Periódico. Así mismo por favor especificar el procedimiento de entrega, los tiempos y costos asociados. Por último por favor aclarar para cada caso la entidad a la cual se le hará la entrega de la mencionada infraestructura. | E19: Se aclara al interesado que los procedimientos y plazos de la Reversión Especial se definen en la Sección 3.10 de la Parte Especial e incluyen los tramos de Salida Palmira – Pradera, Salida Palmira – Candelaria, y la Intersección Sameco. Para estos tramos en mención la reversión se define en la fecha de la firma del Acta de Terminación de Unidad Funcional. Debe tenerse en cuenta que para todos los tramos con Reversión Especial se mantienen las obligaciones de Operación y Mantenimiento en la Etapa Preoperativa, y mientras se completa el proceso de Reversión Especial son aplicables las condiciones de Operación y Mantenimiento de la Sección 3.10 (c). Se aclara que con la Reversión Especial estos tramos serán revertidos a la ANI según las disposiciones de la Sección 3.10 de la Parte Especial. La ANI a su vez a través de acuerdos interadministrativos hará entrega de esos tramos a otras entidades municipales y departamentales según aplique. | F19: Apéndice Técnico 1 numeral 4.7 Infraestructura de Reversión Especial | G19: TÉCNICA
B20: 787 | C20: John Laing, 13/05/2020 | D20: Por favor aclarar si las obligaciones para Vía la Herradura – Matapalo y para la Vía la Villa Rica – Caloto, previo a ser realizadas y/o una vez realizadas las obligaciones previstas y/o una vez entregada la infraestructura, se deben ejecutar obligaciones de Operación y/o Mantenimiento Rutinario y/o Mantenimiento Periódico. Así mismo por favor especificar el procedimiento de entrega, los tiempos y costos asociados. Por último por favor aclarar para cada caso la entidad a la cual se le hará la entrega de la mencionada infraestructura. | E20: Acorde con la Sección 3.10 de la Parte Especial, las obras del Factor de Calidad estarán sujetas a la Reversión Especial, al momento de la firma del Acta de Terminación de Unidad Funcional a la que hagan parte de acuerdo a los términos del Apéndice técnico y la Parte Especial. Las obligaciones de estos tramos serán las dispuestas a la Etapa Preoperativa. El concesionario entregará la infraestructura de las obras del factor de Calidad, definida en la parte especial y el Apéndice Técnico, a la ANI, y esta a su vez a través de acuerdos interadministrativos hará entrega de esos tramos a otras entidades municipales y departamentales según aplique. Finalmente, en lo referente al Procedimiento de Verificación, se deberá cumplir con lo dispuesto en la Sección 4.17 de la Parte General. | F20: Apéndice Técnico 1 numeral 7.2 Factor de Calidad | G20: TÉCNICA
B21: 788 | C21: John Laing, 13/05/2020 | D21: (h) Subcuenta Depósito Especial del Recaudo. Solicitamos a la ANI evaluar la posibilidad que durante los años que tarde la recuperación económica del país, derivados de los impactos económicos de la pandemia actual COVID-19 o posteriores que se puedan o no presentar, se contemple con el objeto de mitigar el riesgo de tráfico que afectan al proyecto y por ende los ingresos para el Concesionario; la ANI se reserve el Treinta y Siete coma Veintiocho por ciento (37,28%) del total del Recaudo de Peaje obtenido de las Estaciones de Peaje del Proyecto, transferidas por el Concesionario (sección 3.7 dela Parte Especial). | E21: La Entidad se permite aclarar al interesado que incluye en el Contrato las figuras de Soporte de Ingreso y Evento de Restricción Vehicular que pretenden cubrir aquellos eventos señalados en su observación. Dicho lo anterior no se considera procedente su observación. | F21: Parte Especial numeral 4.5 Fondeo de Subcuentas del Patrimonio Autónomo. | G21: FINANCIERA
B22: 789 | C22: John Laing, 13/05/2020 | D22: Si la anterior solicitud no fuera tenida en cuenta, solicitamos a la ANI que con abse en los estudios de tráfico aportados en el marco del proceso licitatorio genere Línea base y active un mecanismo de compensación como el DR 8 para los primeros años del contrato y sucesivamente en caso de presentarse una nueva pandemia. | E22: La Entidad se permite aclarar al interesado que incluye en el Contrato las figuras de Soporte de Ingreso y Evento de Restricción Vehicular que pretenden cubrir aquellos eventos señalados en su observación. Dicho lo anterior no se considera procedente su observación. | F22: Parte Especial | G22: TRÁFICO
B23: 790 | C23: SENDA, 13/05/2020 | D23: El literal (b) del numeral 4.2.10 del Pliego de Condiciones indica: "Adjuntar una certificación de la entidad deudora, suscrita por el representante legal y el revisor fiscal o auditor o vicepresidente financiero, o su equivalente [...] en la que conste como mínimo (1) el monto del cierre financiero del endeudamiento otorgado o del valor colocado, (2) los valores y las fechas de los desembolsos o de la colocación, y (3) que el préstamo otorgado o el valor colocado corresponden de manera exclusiva al contrato de concesión de Proyectos de Infraestructura que se acredita; [...]" Teniendo en cuenta que este tipo de certificados normalmente son suscritos únicamente por el representante legal de la sociedad concesionaria (Entidad deudora) se solicita a la Entidad de manera atenta eliminar la previsión de que el citado certificado se presente suscrito por un revisor fiscal o equivalente. Lo anterior sustentado en que: - La legitimidad de los certificados no dependerá de que los mismos estén firmados por el revisor fiscal o equivalente. - La tramitación de nuevos certificados es casi imposible, no solo la formalidad que los mismos requieren en materia de apostillas y/o legalizaciones, sino además teniendo en cuenta que en muchos paises la figura de "revisor fiscal" no existe, las firmas auditoras no se prestan para suscribir certificados y en muchos casos el vicepresidente financiero o equivalente ya no se encuentra disponible para suscribirlos. | E23: Se informa al interesado que no se acepta su observación, la Entidad considera que la certificación de la entidad deudora deberá estar suscrita no sólo por el representante legal sino por el contador y/o revisor fiscal, para las sociedades que se encuentren obligadas por ley. | F23: Pliego de Condiciones | G23: Financiera
B24: 791 | C24: SENDA, 13/05/2020 | D24: El numeral 3.1.1 del Pliego de Condiciones indica que podrán participar en la presente licitación personas naturales y/o juridicas nacionales o extranjeras, estás últimas representadas a través de un Apoderado domiciliado en Colombia conforme el literal (a) del numeral 4.1.4 de los pliegos, teniendo en cuenta que dichas sociedades no están constituidas en Colombia. El numeral 4.3.1 del Pliego de Condiciones indica que para acreditar la capacidad financiera los oferentes deberán suscribir el Anexo 10A suscrito por: "(i) el representante legal del proponerte individual o representante legal del integrante de una estructura plural que acredite Capacidad Financiera; (ii) el contador o vicepresidente financiero o por quien ostente la facultad para suscripción del anexo indicado de conformidad con el certificado de existencia y representación legal o los estatutos o su equivalente tratándose de proponentes extranjeros y (iii) por el Revisor Fiscal, para las sociedades que se encuentren obligadas por ley o el Auditor en los demás casos". Teniendo en cuenta lo antes expuesto, se solicita a la Entidad eliminar la previsión que indica que el Anexo 10A se presente suscrito por el contador o vicepresidente financiero o equivalente, teniendo en cuenta que para el caso de las sociedades extranjeras su apoderado es quien cuenta con todas las facultades para suscribir todos y cada uno de los formatos de la Licitación, como se verá legitimado en el poder a él otorgado. Al respecto, no tiene sentido que las sociedades extranjeras tengan un apoderado con amplias facultades para ser representadas en la Licitación, y que los formatos de las mismas deban ser suscritos por personal en su país de origen, ya que esto vulneraria lo preceptuado en el Decreto 019 de 2012 en lo concerniente a la ejecución de trémites administrativos innecesarios para las partes. | E24: Se informa al interesado que no se acepta su observación. El Anexo 10A deberá ir suscrito por: (i) el representante legal del proponerte individual o representante legal del Integrante de una Estructura Plural que acredite Capacidad Financiera; y (ii) por el contador público y/o Revisor Fiscal, para las sociedades que se encuentren obligadas por ley | F24: Pliego de Condiciones | G24: Financiera
... B27: 794 | C27: SENDA, 13/05/2020 | D27: Entendemos que el Acuerdo de Garantía (Anexo No. 3) solamente deberá ser suscrito por el oferente o en caso de estructuras plurales por el integrante que acredite la Experiencia en Inversión y o la Capacidad Financiera, así mismo entendemos que si estos requisitos son acreditados por el integrante a traves de terceros (matriz, sociedades controladas) éstos no deberán suscribir el Anexo No. 3. Favor confirmar que nuestro entendimiento es correcto. | E27: Se informa al interesado que su entendimiento no es correcto, el Anexo No. 3 deberá ser presentado cuando se acredite la Experiencia en Inversión y/o Capacidad Financiera a través de matriz, sociedad controlada o sociedad controlada por la matriz del Oferente o Integrante del Oferente y deberá ser suscrito de acuerdo con lo señalado en el Pliego de Condiciones y en el referido anexo. | F27: Pliego de Condiciones | G27: Jurídica
B28: 794.1 | C28: Dentons Cárdenas & Cárdenas | D28: Financiación- Compromiso en firme | E28: Se aclara al interesado que el compromiso en firme, tal y como su nombre lo indica es un compromiso por parte de los financiadores que aunque usualmente esté sujeto al cumplimiento de ciertas condiciones ya habrá implicado el proceso de aprobaciones con los financiadores a diferencia de la certificación anterior la cual únicamente implica una intención de financiación. | G28: Jurídica
F29: Parte General - Sección 3.8(a)(i)
D30: Esta sección del contrato dispone lo siguiente: “Préstamos Bancarios: El Concesionario deberá aportar a) el contrato de crédito suscrito y/o b) un compromiso en firme sobre la financiación emitido por el Prestamista (o el banco líder, agente administrador o similar, en caso de créditos sindicados) o el agente de manejo del crédito que contenga al menos lo siguiente: (i) valor del crédito; (ii) acreedor; (iii) garantías; (iv) plazo para el pago; (v) tasa; (vi) condiciones para el desembolso (…)”
D32: Por favor aclarar a qué se refieren con un compromiso “en firme” sobre la financiación para certificar el cierre financiero, y en qué se diferenciaría de la certificación que se solicitaba para el cierre financiero de los proyectos de 4G. Consideramos que los bancos podrían emitir una carta de compromiso sujeta a la aprobación final de los comités de crédito, la celebración final de los contratos de financiación y al cumplimiento de las condiciones precedentes estándares para este tipo de financiaciones. Entendemos que “compromiso en firme” se refiere a una certificación en este sentido. Favor confirmar nuestro entendimiento.
B34: 795. | C34: Dentons Cárdenas & Cárdenas | D34: Plazo para el Cierre Financiero | E34: Se informa al interesado que se amplió el plazo del cierre financiero y se modificó la forma de acreditación así: 3.8 (b) En el caso que el Concesionario opte por presentar en el plazo del Cierre Financiero la certificación emitida por el(los) Prestamista(s) indicada en la Sección 3.8(a)(i) de esta Parte General, el Concesionario contará con el plazo establecido en la Parte Especial contando desde la fecha de suscripción del Acta de Inicio de la Fase de Construcción para presentar el contrato de crédito suscrito o una certificación emitida por el(los) Prestamista(s) en la que conste que el contrato de crédito fue suscrito, que contenga al menos lo siguiente: (i) valor del crédito; (ii) acreedor; (iii) garantías; (iv) plazo para el pago; (v) tasa; (vi) condiciones para el desembolso. | G34: FINANCIERA
F35: Parte Especial – Capítulo II –Tabla de Referencias a la Parte General
D36: La sección 3.8 (a) de la Parte Especial dispone lo siguiente: “El plazo para que el Concesionario presente la totalidad de la documentación para acreditar el Cierre Financiero es de trescientos sesenta (360) Días contados desde la Fecha de Inicio.” | F36: Sección 3.8(a)
D38: Tenemos los siguientes comentarios y solicitudes:
D40: (i) Consideramos que el plazo de 360 días para el Cierre Financiero no es suficiente, por lo que amablemente solicitamos que se otorgue un plazo mucho mayor. Destacamos que, en los Contratos 4G la inmensa mayoría de los proyectos obtuvieron Cierre Financiero entre 2 o 4 años después de las respectivas fechas de inicio. En otras palabras, si ese hubiese sido el parámetro en los contratos 4G prácticamente ningún concesionario hubiese cumplido con dicha obligación.
D42: (ii) Adicionalmente, los 360 días para acreditar el Cierre Financiero en los términos que lo solicita la ANI no guardan correspondencia con los plazos para realizar los Giros de Equity a los que se refiere la Sección 4.4 del Borrador de la Parte Especial. De hecho, el 97% aproximadamente de la totalidad de los Giros de Equity se debe realizar dentro de los mismos 360 días, con lo cual es claro que varios o todos esos Giros de Equity se realizarán con recursos de los socios del proyecto y no con financiación.
D44: (iii) Solicitamos considerar la posibilidad de que el plazo para que el Concesionario presente la totalidad de la documentación para acreditar el Cierre Financiero se cuente a partir de la fecha en la que se suscriba el Acta de Inicio de la Fase de Construcción, y no a partir de la Fecha de Inicio. Lo anterior en la medida en que, para obtener compromisos en firme de financiadores, éstos requieren que todos los requisitos para dar inicio a la construcción se hayan cumplido, lo cual se puede acreditar con el Acta de Inicio de la Fase de Construcción. En la Fecha de Inicio todavía hay varios temas esenciales que están pendientes, tales como las Licencias Ambientales, Estudios de Trazado y Diseño, etc.
B47: 796. | C47: Dentons Cárdenas & Cárdenas | D47: Plazo de nueve meses para presentar contrato de crédito | E47: Se informa al interesado que se amplió el plazo del cierre financiero y la forma de acreditación así: 3.8 (b) En el caso que el Concesionario opte por presentar en el plazo del Cierre Financiero la certificación emitida por el(los) Prestamista(s) indicada en la Sección 3.8(a)(i) de esta Parte General, el Concesionario contará con el plazo establecido en la Parte Especial contando desde la fecha de suscripción del Acta de Inicio de la Fase de Construcción para presentar el contrato de crédito suscrito o una certificación emitida por el(los) Prestamista(s) en la que conste que el contrato de crédito fue suscrito, que contenga al menos lo siguiente: (i) valor del crédito; (ii) acreedor; (iii) garantías; (iv) plazo para el pago; (v) tasa; (vi) condiciones para el desembolso. | G47: FINANCIERA
F48: Parte General - Sección 3.8 (c)
D49: El contrato, en la sección 3.8 (c) de la Parte General dispone lo siguiente: “En el caso que el Concesionario opte por presentar en el plazo del Cierre Financiero el compromiso en firme indicado en la Sección 3.8(a)(i)(b) de esta Parte General, el Concesionario tendrá un plazo de nueve (9) Meses contados desde la fecha de suscripción del Acta de Inicio de la Fase de Construcción para presentar el contrato de crédito suscrito.
D51: Solicitamos eliminar el requisito de presentar el contrato de crédito firmado dentro de los 9 meses siguientes contados desde la suscripción del Acta de Inicio de la Fase de Construcción. Consideramos que no hay razón alguna para esta solicitud. El Concesionario asume el riesgo de la financiación del Proyecto, así que mientras esté en cumplimiento del Contrato de Concesión y las obras y demás actividades se estén ejecutando como es debido, la ANI no debería intervenir en la forma en la que se está financiando el Proyecto, ya sea mediante Equity o créditos puente (bridge loans) mientras se obtiene la financiación de largo plazo.
D53: Entendemos que el riesgo de financiación es totalmente transferido al concesionario. Por tanto, la mitigación del mismo corresponde a los desarrolladores del proyecto y la incapacidad de obtener el financiamiento no debe ser una razón para que los desarrolladores no cumplan con sus obligaciones bajo el contrato de concesión.
D55: Entendemos que el objetivo es asegurar el adecuado fondeo del proyecto para una exitosa construcción del mismo, pero en otros países de la región (Perú u Argentina) hemos visto que este tipo de cláusulas han afectado a los proyectos negativamente.
D57: Para la implementación de este tipo de cláusulas aconsejamos revisar la experiencia de mercados como Canadá y la Unión Europea. En tales casos, la autoridad ha obtenido todos los permisos ambientales, sociales y se dispone de los predios necesarios con anterioridad a la publicación de la licitación.
D59: Destacamos que la misma ANI señala en la Sección 3.8 (h) de la Parte General del Contrato de Concesión que “La obligación del Concesionario de financiar el Proyecto no se agota ni se entiende cumplida con la obtención del Cierre Financiero” con lo cual no se entiende la finalidad de la ANI de incluir cláusulas tan restrictivas y exigentes en materia de Cierre Financiero.
...

Sheet 2127-3075
C3: SISTEMA INTEGRADO DE GESTIÓN | F3: Código: GCOP-F-006
C4: PROCESO | D4: GESTIÓN DE LA CONTRATACIÓN PÚBLICA | F4: Versión: 002
C5: FORMATO | D5: MATRIZ RESPUESTA A OBSERVACIONES | F5: Fecha: 06/05/2020
A9: RESPUESTA A OBSERVACIONES
B11: LICITACIÓN PÚBLICA No. VJ-VE-APP-IPB-001-2020
A12: En Bogotá D.C., a los cuatro días del mes de septiembre de 2020, la Agencia Nacional de Infraestructura, por medio del presente documento se permite dar respuesta a la observación allegada hasta la fecha, al VJ-VE-APP-IPB-001-2020 del proceso de selección de la referencia, en los siguientes términos:
A13: Se da respuesta a las observaciones allegadas al proyecto de pliego de condiciones del proceso de selección. Las modificaciones realizadas al pliego de condiciones y demás anexos y apéndices serán las contenidas en los documentos indicados, las cuales prevalecen sobre las respuestas a las observaciones.
A16: No. | B16: EMPRESA QUE OBSERVA | C16: OBSERVACIÓN REALIZADA | D16: RESPUESTA DE LA ENTIDAD | E16: DOCUMENTO O SECCIÓN QUE SE OBSERVA | F16: TIPO DE OBSERVACIÓN (TÉCNICA, JURÍDICA, FINANCIERA, ETC.)* | G16: 123
A17: 2127 | B17: Durán & Osorio Abogados Asociados, 22/05/2020 | C17: Entendemos que varios Fondos de Capital Privado pueden respaldar la participación de un mismo Oferente o un mismo Integrante de la Estructura Plural. En este caso, entendemos que cada uno de los fondos puede presentar de forma independiente su Compromiso Irrevocable de Inversión y que la suma de dichos Compromisos Irrevocables de Inversión es la que debe dar como mínimo el valor establecido en el numeral 4.3.6(a)(i) del Pliego de Condiciones (y por lo tanto no se exigirá que cada uno de los Compromisos Irrevocables de Inversión sea por el valor establecido en dicho numeral 4.3.6(a)(i)). Adicionalmente, entendemos que ocurre lo mismo con el valor autorizado por el comité de inversiones para aportar como capital al SPV (numeral 4.6.2(d)). Así, en caso de que se presenten varios Compromisos Irrevocables de Inversión para respaldar a un mismo Oferente o Integrante de Estructura Plural, el valor autorizado deberá corresponder como mínimo al valor comprometido en el Compromiso Irrevocable de Inversión de dicho Fondo de Capital Privado y no al establecido en el numeral 4.3.6(a)(i) del Pliego de Condiciones. Les agradecemos confirmar nuestro entendimiento. En caso que nuestro entendimiento no sea correcto, solicitamos modificar el Pliego de Condiciones aclarando: (i) que es posible que un Integrante de la Estructura Plural presente respaldo de varios Fondos de Capital Privado a través de varios Compromisos Irrevocables de Inversión; (ii) que, en este caso, los Compromisos Irrevocables de Inversión deban sumar entre ellos como mínimo el valor establecido en el numeral 4.3.6(a)(i) del Pliego de Condiciones -y por lo tanto no se exigirá que cada uno de los Compromisos Irrevocables de Inversión sea por el valor establecido en el numeral- y (iii) que la regla establecida en el numeral (ii) anterior aplica también al valor autorizado por el comité de inversiones para aportar como capital al SPV, al que se refiere el numeral 4.6.2(d) del Pliego de Condiciones. | D17: Se informa al interesado que se tendrá en cuenta su observación y se realizará el ajuste correspondiente. | E17: Proyecto de Pliego de Condiciones Numerales 4.6.1 y 4.6.2(d) | F17: Financiera Jurídica | G17: respuesta enviada por reina el 28 de junio
A18: 2128 | B18: Durán & Osorio Abogados Asociados, 22/05/2020 | C18: Solicitamos que se aclare en el Pliego de Condiciones que se entienden matrices no sólo quienes ejercen control directo sobre el Oferente o cualquiera de sus Integrantes, sino que se entiendan en este concepto también quienes ejercen el control indirecto (es decir quien es controlante de la controlante del Oferente o el Integrante respectivo). Esto, teniendo en cuenta que existen estructuras societarias y grupos empresariales que tienen varias sociedades/fondos y demás y al final quien concentra toda la experiencia es una gran matriz que controla todo el grupo empresarial. Para esto, proponemos que en el numeral 1.3.41 se establezca que son matrices quienes “ejerzan control directo o indirecto sobre el Oferente o cualquiera de sus Integrantes, en los términos del numeral 4.4 de este Pliego”. | D18: Se precisa al interesado que el control podra ser indirecto unicamente en los terminos indicados en el pliego de condiciones, esto es, en el evento el que se acredita capacidad financiera o experiencia en inversión a traves de las sociedades controladas por las matrices del proponente o del integrante de la estructura plural del proponente. Adicionalmente se aclara que en el proceso de selección se tendrá en cuenta únicamente la presunción de control establecida en el numeral 1 del artículo 261 del Código de Comercio Colombiano. | E18: Proyecto de Pliego de Condiciones Numeral 1.3.41 | F18: Financiera Jurídica | G18: respuesta enviada por luz elena el 6 de julio
A19: 2129 | B19: Durán & Osorio Abogados Asociados, 22/05/2020 | C19: Solicitamos que se aclare en el Pliego de Condiciones que se entienden matrices no sólo las personas naturales o jurídicas (de naturaleza societaria o no societaria) sino que también entran en este supuesto los Fondos de Capital Privado. Esto, teniendo en cuenta que existen estructuras societarias y grupos empresariales que tienen este tipo de Fondos como principales accionistas y que en algunas jurisdicciones estos fondos no cuentan con personalidad jurídica, excluyendo a estos grupos de participar en las mismas condiciones de los demás (aplicando la regla del 4.4). Para esto, proponemos que se aclare en el numeral 1.3.41 que Matrices “Son las personas naturales o jurídicas (de naturaleza societaria o no societaria) y Fondos de Capital Privado (…)”. | D19: Se informa al interesado que no se acepta su observación, la definición de "Matriz" o "Matrices" se ajusta a la regulación del Pliego de Condiciones y en todo caso, el Pliego de Condiciones permite la participación de los Fondos de Capital Privado de acuerdo con lo establecido en la Sección 4.6 del mismo | E19: Proyecto de Pliego de Condiciones Numeral 1.3.41 | F19: Financiera Jurídica | G19: respuesta enviada por luz elena el 2 de septiembre
